BEGIN:VCALENDAR
VERSION:2.0
PRODID:-//Kickstart Moderation Program - ECPv6.15.20//NONSGML v1.0//EN
CALSCALE:GREGORIAN
METHOD:PUBLISH
X-ORIGINAL-URL:https://moderationmonth.org
X-WR-CALDESC:Events for Kickstart Moderation Program
REFRESH-INTERVAL;VALUE=DURATION:PT1H
X-Robots-Tag:noindex
X-PUBLISHED-TTL:PT1H
BEGIN:VTIMEZONE
TZID:America/New_York
BEGIN:DAYLIGHT
TZOFFSETFROM:-0500
TZOFFSETTO:-0400
TZNAME:EDT
DTSTART:20240310T070000
END:DAYLIGHT
BEGIN:STANDARD
TZOFFSETFROM:-0400
TZOFFSETTO:-0500
TZNAME:EST
DTSTART:20241103T060000
END:STANDARD
BEGIN:DAYLIGHT
TZOFFSETFROM:-0500
TZOFFSETTO:-0400
TZNAME:EDT
DTSTART:20250309T070000
END:DAYLIGHT
BEGIN:STANDARD
TZOFFSETFROM:-0400
TZOFFSETTO:-0500
TZNAME:EST
DTSTART:20251102T060000
END:STANDARD
BEGIN:DAYLIGHT
TZOFFSETFROM:-0500
TZOFFSETTO:-0400
TZNAME:EDT
DTSTART:20260308T070000
END:DAYLIGHT
BEGIN:STANDARD
TZOFFSETFROM:-0400
TZOFFSETTO:-0500
TZNAME:EST
DTSTART:20261101T060000
END:STANDARD
END:VTIMEZONE
BEGIN:VEVENT
DTSTART;TZID=America/New_York:20250707T193000
DTEND;TZID=America/New_York:20250707T203000
DTSTAMP:20260424T074446
CREATED:20250619T221437Z
LAST-MODIFIED:20250619T221631Z
UID:10001807-1751916600-1751920200@moderationmonth.org
SUMMARY:Dry(er) July Virtual Kickstart Meeting
DESCRIPTION:We're sorry\, you don't seem to have access to this page. Please check to see if you are logged in by going to the Kickstart Login Page.  If you have registered for the Kickstart Moderation Team Program\, you will not have access to the course lessons until the program begins. If you have not registered for the program\, we hope you will join us soon. Register now. \n  \n  \n            \n\n                       \n            \n        \n                              Username\n        \n        \n      \n      \n        \n          Password\n          \n            \n            \n              \n            \n          \n        \n      \n            \n         Remember Me\n      \n       \n      \n        \n        \n        \n        \n      \n    \n     \n    \n        \n          Forgot Password
URL:https://moderationmonth.org/event/dryer-july-virtual-kickstart-meeting/2025-07-07/
ATTACH;FMTTYPE=image/jpeg:https://moderationmonth.org/wp-content/uploads/2025/06/frgotjfqahm-e1750371910368.jpg
END:VEVENT
BEGIN:VEVENT
DTSTART;TZID=America/New_York:20250710T150000
DTEND;TZID=America/New_York:20250710T160000
DTSTAMP:20260424T074446
CREATED:20250619T222710Z
LAST-MODIFIED:20250619T222816Z
UID:10001811-1752159600-1752163200@moderationmonth.org
SUMMARY:Dry(er) July Virtual Kickstart Meeting
DESCRIPTION:We're sorry\, you don't seem to have access to this page. Please check to see if you are logged in by going to the Kickstart Login Page.  If you have registered for the Kickstart Moderation Team Program\, you will not have access to the course lessons until the program begins. If you have not registered for the program\, we hope you will join us soon. Register now. \n  \n  \n            \n\n                       \n            \n        \n                              Username\n        \n        \n      \n      \n        \n          Password\n          \n            \n            \n              \n            \n          \n        \n      \n            \n         Remember Me\n      \n       \n      \n        \n        \n        \n        \n      \n    \n     \n    \n        \n          Forgot Password
URL:https://moderationmonth.org/event/dryer-july-virtual-kickstart-meeting-3/2025-07-10/
ATTACH;FMTTYPE=image/jpeg:https://moderationmonth.org/wp-content/uploads/2025/06/frgotjfqahm-e1750371910368.jpg
END:VEVENT
BEGIN:VEVENT
DTSTART;TZID=America/New_York:20250714T193000
DTEND;TZID=America/New_York:20250714T203000
DTSTAMP:20260424T074446
CREATED:20250619T225116Z
LAST-MODIFIED:20250619T232452Z
UID:10001867-1752521400-1752525000@moderationmonth.org
SUMMARY:Group Coaching Session with Molly Watts
DESCRIPTION:We're sorry\, you don't seem to have access to this page. Please check to see if you are logged in by going to the Kickstart Login Page.  If you have registered for the Kickstart Moderation Team Program\, you will not have access to the course lessons until the program begins. If you have not registered for the program\, we hope you will join us soon. Register now.
URL:https://moderationmonth.org/event/kickstart-group-coaching-session-with-molly-watts/
ATTACH;FMTTYPE=image/webp:https://moderationmonth.org/wp-content/uploads/2025/06/MW-1-of-1-scaled.jpg-e1750373363675.webp
END:VEVENT
BEGIN:VEVENT
DTSTART;TZID=America/New_York:20250717T150000
DTEND;TZID=America/New_York:20250717T160000
DTSTAMP:20260424T074446
CREATED:20250619T222710Z
LAST-MODIFIED:20250619T222816Z
UID:10001812-1752764400-1752768000@moderationmonth.org
SUMMARY:Dry(er) July Virtual Kickstart Meeting
DESCRIPTION:We're sorry\, you don't seem to have access to this page. Please check to see if you are logged in by going to the Kickstart Login Page.  If you have registered for the Kickstart Moderation Team Program\, you will not have access to the course lessons until the program begins. If you have not registered for the program\, we hope you will join us soon. Register now.
URL:https://moderationmonth.org/event/dryer-july-virtual-kickstart-meeting-3/2025-07-17/
ATTACH;FMTTYPE=image/jpeg:https://moderationmonth.org/wp-content/uploads/2025/06/frgotjfqahm-e1750371910368.jpg
END:VEVENT
BEGIN:VEVENT
DTSTART;TZID=America/New_York:20250721T193000
DTEND;TZID=America/New_York:20250721T203000
DTSTAMP:20260424T074446
CREATED:20250619T221437Z
LAST-MODIFIED:20250619T221631Z
UID:10001809-1753126200-1753129800@moderationmonth.org
SUMMARY:Dry(er) July Virtual Kickstart Meeting
DESCRIPTION:We're sorry\, you don't seem to have access to this page. Please check to see if you are logged in by going to the Kickstart Login Page.  If you have registered for the Kickstart Moderation Team Program\, you will not have access to the course lessons until the program begins. If you have not registered for the program\, we hope you will join us soon. Register now.
URL:https://moderationmonth.org/event/dryer-july-virtual-kickstart-meeting/2025-07-21/
ATTACH;FMTTYPE=image/jpeg:https://moderationmonth.org/wp-content/uploads/2025/06/frgotjfqahm-e1750371910368.jpg
END:VEVENT
BEGIN:VEVENT
DTSTART;TZID=America/New_York:20250724T150000
DTEND;TZID=America/New_York:20250724T160000
DTSTAMP:20260424T074446
CREATED:20250619T232417Z
LAST-MODIFIED:20250623T152908Z
UID:10001868-1753369200-1753372800@moderationmonth.org
SUMMARY:Special Presentation with Anna Charles
DESCRIPTION:We're sorry\, you don't seem to have access to this page. Please check to see if you are logged in by going to the Kickstart Login Page.  If you have registered for the Kickstart Moderation Team Program\, you will not have access to the course lessons until the program begins. If you have not registered for the program\, we hope you will join us soon. Register now.
URL:https://moderationmonth.org/event/special-presentation-with-anna-charles/
ATTACH;FMTTYPE=image/jpeg:https://moderationmonth.org/wp-content/uploads/2023/03/Anna-for-MM-scaled-1-e1750375308778.jpg
END:VEVENT
BEGIN:VEVENT
DTSTART;TZID=America/New_York:20250728T193000
DTEND;TZID=America/New_York:20250728T203000
DTSTAMP:20260424T074446
CREATED:20250619T221437Z
LAST-MODIFIED:20250619T221631Z
UID:10001810-1753731000-1753734600@moderationmonth.org
SUMMARY:Dry(er) July Virtual Kickstart Meeting
DESCRIPTION:We're sorry\, you don't seem to have access to this page. Please check to see if you are logged in by going to the Kickstart Login Page.  If you have registered for the Kickstart Moderation Team Program\, you will not have access to the course lessons until the program begins. If you have not registered for the program\, we hope you will join us soon. Register now.
URL:https://moderationmonth.org/event/dryer-july-virtual-kickstart-meeting/2025-07-28/
ATTACH;FMTTYPE=image/jpeg:https://moderationmonth.org/wp-content/uploads/2025/06/frgotjfqahm-e1750371910368.jpg
END:VEVENT
BEGIN:VEVENT
DTSTART;TZID=America/New_York:20250731T150000
DTEND;TZID=America/New_York:20250731T160000
DTSTAMP:20260424T074446
CREATED:20250619T222710Z
LAST-MODIFIED:20250619T222816Z
UID:10001814-1753974000-1753977600@moderationmonth.org
SUMMARY:Dry(er) July Virtual Kickstart Meeting
DESCRIPTION:We're sorry\, you don't seem to have access to this page. Please check to see if you are logged in by going to the Kickstart Login Page.  If you have registered for the Kickstart Moderation Team Program\, you will not have access to the course lessons until the program begins. If you have not registered for the program\, we hope you will join us soon. Register now.
URL:https://moderationmonth.org/event/dryer-july-virtual-kickstart-meeting-3/2025-07-31/
ATTACH;FMTTYPE=image/jpeg:https://moderationmonth.org/wp-content/uploads/2025/06/frgotjfqahm-e1750371910368.jpg
END:VEVENT
END:VCALENDAR