BEGIN:VCALENDAR
VERSION:2.0
PRODID:-//Kickstart Moderation Program - ECPv6.15.20//NONSGML v1.0//EN
CALSCALE:GREGORIAN
METHOD:PUBLISH
X-ORIGINAL-URL:https://moderationmonth.org
X-WR-CALDESC:Events for Kickstart Moderation Program
REFRESH-INTERVAL;VALUE=DURATION:PT1H
X-Robots-Tag:noindex
X-PUBLISHED-TTL:PT1H
BEGIN:VTIMEZONE
TZID:America/New_York
BEGIN:DAYLIGHT
TZOFFSETFROM:-0500
TZOFFSETTO:-0400
TZNAME:EDT
DTSTART:20220313T070000
END:DAYLIGHT
BEGIN:STANDARD
TZOFFSETFROM:-0400
TZOFFSETTO:-0500
TZNAME:EST
DTSTART:20221106T060000
END:STANDARD
BEGIN:DAYLIGHT
TZOFFSETFROM:-0500
TZOFFSETTO:-0400
TZNAME:EDT
DTSTART:20230312T070000
END:DAYLIGHT
BEGIN:STANDARD
TZOFFSETFROM:-0400
TZOFFSETTO:-0500
TZNAME:EST
DTSTART:20231105T060000
END:STANDARD
BEGIN:DAYLIGHT
TZOFFSETFROM:-0500
TZOFFSETTO:-0400
TZNAME:EDT
DTSTART:20240310T070000
END:DAYLIGHT
BEGIN:STANDARD
TZOFFSETFROM:-0400
TZOFFSETTO:-0500
TZNAME:EST
DTSTART:20241103T060000
END:STANDARD
END:VTIMEZONE
BEGIN:VEVENT
DTSTART;TZID=America/New_York:20231204T140000
DTEND;TZID=America/New_York:20231204T150000
DTSTAMP:20260425T114105
CREATED:20230811T195327Z
LAST-MODIFIED:20230811T203042Z
UID:10000896-1701698400-1701702000@moderationmonth.org
SUMMARY:Monday Afternoon Kickstart Meeting: 2:00 PM ET
DESCRIPTION:We're sorry\, you don't seem to have access to this page. Please check to see if you are logged in by going to the Kickstart Login Page.  If you have registered for the Kickstart Moderation Team Program\, you will not have access to the course lessons until the program begins. If you have not registered for the program\, we hope you will join us soon. Register now. \n  \n  \n            \n\n                       \n            \n        \n                              Username\n        \n        \n      \n      \n        \n          Password\n          \n            \n            \n              \n            \n          \n        \n      \n            \n         Remember Me\n      \n       \n      \n        \n        \n        \n        \n      \n    \n     \n    \n        \n          Forgot Password
URL:https://moderationmonth.org/event/monday-afternoon-kickstart-meeting-200-pm-et-5/2023-12-04/
ATTACH;FMTTYPE=image/jpeg:https://moderationmonth.org/wp-content/uploads/2023/03/be5avkfv9ho.jpg
ORGANIZER;CN="Mary Reid":MAILTO:mary@moderation.org
END:VEVENT
BEGIN:VEVENT
DTSTART;TZID=America/New_York:20231204T190000
DTEND;TZID=America/New_York:20231204T200000
DTSTAMP:20260425T114105
CREATED:20230306T162832Z
LAST-MODIFIED:20230811T200524Z
UID:10000370-1701716400-1701720000@moderationmonth.org
SUMMARY:Kickstart Monday Evening Meeting: 7:00 PM Eastern Time
DESCRIPTION:We're sorry\, you don't seem to have access to this page. Please check to see if you are logged in by going to the Kickstart Login Page.  If you have registered for the Kickstart Moderation Team Program\, you will not have access to the course lessons until the program begins. If you have not registered for the program\, we hope you will join us soon. Register now.
URL:https://moderationmonth.org/event/kickstart-monday-evening-meeting-800-pm-eastern-time-2/2023-12-04/
CATEGORIES:Video Meeting
ATTACH;FMTTYPE=image/jpeg:https://moderationmonth.org/wp-content/uploads/2022/10/smgtvepind4.jpg
ORGANIZER;CN="ModerationMonth":MAILTO:moderationmonth@moderation.org
END:VEVENT
BEGIN:VEVENT
DTSTART;TZID=America/New_York:20231211T140000
DTEND;TZID=America/New_York:20231211T150000
DTSTAMP:20260425T114105
CREATED:20230811T195327Z
LAST-MODIFIED:20230811T203042Z
UID:10000897-1702303200-1702306800@moderationmonth.org
SUMMARY:Monday Afternoon Kickstart Meeting: 2:00 PM ET
DESCRIPTION:We're sorry\, you don't seem to have access to this page. Please check to see if you are logged in by going to the Kickstart Login Page.  If you have registered for the Kickstart Moderation Team Program\, you will not have access to the course lessons until the program begins. If you have not registered for the program\, we hope you will join us soon. Register now.
URL:https://moderationmonth.org/event/monday-afternoon-kickstart-meeting-200-pm-et-5/2023-12-11/
ATTACH;FMTTYPE=image/jpeg:https://moderationmonth.org/wp-content/uploads/2023/03/be5avkfv9ho.jpg
ORGANIZER;CN="Mary Reid":MAILTO:mary@moderation.org
END:VEVENT
BEGIN:VEVENT
DTSTART;TZID=America/New_York:20231211T190000
DTEND;TZID=America/New_York:20231211T200000
DTSTAMP:20260425T114105
CREATED:20230306T162832Z
LAST-MODIFIED:20230811T200524Z
UID:10000371-1702321200-1702324800@moderationmonth.org
SUMMARY:Kickstart Monday Evening Meeting: 7:00 PM Eastern Time
DESCRIPTION:We're sorry\, you don't seem to have access to this page. Please check to see if you are logged in by going to the Kickstart Login Page.  If you have registered for the Kickstart Moderation Team Program\, you will not have access to the course lessons until the program begins. If you have not registered for the program\, we hope you will join us soon. Register now.
URL:https://moderationmonth.org/event/kickstart-monday-evening-meeting-800-pm-eastern-time-2/2023-12-11/
CATEGORIES:Video Meeting
ATTACH;FMTTYPE=image/jpeg:https://moderationmonth.org/wp-content/uploads/2022/10/smgtvepind4.jpg
ORGANIZER;CN="ModerationMonth":MAILTO:moderationmonth@moderation.org
END:VEVENT
BEGIN:VEVENT
DTSTART;TZID=America/New_York:20231218T140000
DTEND;TZID=America/New_York:20231218T150000
DTSTAMP:20260425T114105
CREATED:20230811T195327Z
LAST-MODIFIED:20230811T203042Z
UID:10000898-1702908000-1702911600@moderationmonth.org
SUMMARY:Monday Afternoon Kickstart Meeting: 2:00 PM ET
DESCRIPTION:We're sorry\, you don't seem to have access to this page. Please check to see if you are logged in by going to the Kickstart Login Page.  If you have registered for the Kickstart Moderation Team Program\, you will not have access to the course lessons until the program begins. If you have not registered for the program\, we hope you will join us soon. Register now.
URL:https://moderationmonth.org/event/monday-afternoon-kickstart-meeting-200-pm-et-5/2023-12-18/
ATTACH;FMTTYPE=image/jpeg:https://moderationmonth.org/wp-content/uploads/2023/03/be5avkfv9ho.jpg
ORGANIZER;CN="Mary Reid":MAILTO:mary@moderation.org
END:VEVENT
BEGIN:VEVENT
DTSTART;TZID=America/New_York:20231218T190000
DTEND;TZID=America/New_York:20231218T200000
DTSTAMP:20260425T114105
CREATED:20230306T162832Z
LAST-MODIFIED:20230811T200524Z
UID:10000372-1702926000-1702929600@moderationmonth.org
SUMMARY:Kickstart Monday Evening Meeting: 7:00 PM Eastern Time
DESCRIPTION:We're sorry\, you don't seem to have access to this page. Please check to see if you are logged in by going to the Kickstart Login Page.  If you have registered for the Kickstart Moderation Team Program\, you will not have access to the course lessons until the program begins. If you have not registered for the program\, we hope you will join us soon. Register now.
URL:https://moderationmonth.org/event/kickstart-monday-evening-meeting-800-pm-eastern-time-2/2023-12-18/
CATEGORIES:Video Meeting
ATTACH;FMTTYPE=image/jpeg:https://moderationmonth.org/wp-content/uploads/2022/10/smgtvepind4.jpg
ORGANIZER;CN="ModerationMonth":MAILTO:moderationmonth@moderation.org
END:VEVENT
BEGIN:VEVENT
DTSTART;TZID=America/New_York:20231225T140000
DTEND;TZID=America/New_York:20231225T150000
DTSTAMP:20260425T114105
CREATED:20230811T195327Z
LAST-MODIFIED:20230811T203042Z
UID:10000899-1703512800-1703516400@moderationmonth.org
SUMMARY:Monday Afternoon Kickstart Meeting: 2:00 PM ET
DESCRIPTION:We're sorry\, you don't seem to have access to this page. Please check to see if you are logged in by going to the Kickstart Login Page.  If you have registered for the Kickstart Moderation Team Program\, you will not have access to the course lessons until the program begins. If you have not registered for the program\, we hope you will join us soon. Register now.
URL:https://moderationmonth.org/event/monday-afternoon-kickstart-meeting-200-pm-et-5/2023-12-25/
ATTACH;FMTTYPE=image/jpeg:https://moderationmonth.org/wp-content/uploads/2023/03/be5avkfv9ho.jpg
ORGANIZER;CN="Mary Reid":MAILTO:mary@moderation.org
END:VEVENT
BEGIN:VEVENT
DTSTART;TZID=America/New_York:20231225T190000
DTEND;TZID=America/New_York:20231225T200000
DTSTAMP:20260425T114105
CREATED:20230306T162832Z
LAST-MODIFIED:20230811T200524Z
UID:10000373-1703530800-1703534400@moderationmonth.org
SUMMARY:Kickstart Monday Evening Meeting: 7:00 PM Eastern Time
DESCRIPTION:We're sorry\, you don't seem to have access to this page. Please check to see if you are logged in by going to the Kickstart Login Page.  If you have registered for the Kickstart Moderation Team Program\, you will not have access to the course lessons until the program begins. If you have not registered for the program\, we hope you will join us soon. Register now.
URL:https://moderationmonth.org/event/kickstart-monday-evening-meeting-800-pm-eastern-time-2/2023-12-25/
CATEGORIES:Video Meeting
ATTACH;FMTTYPE=image/jpeg:https://moderationmonth.org/wp-content/uploads/2022/10/smgtvepind4.jpg
ORGANIZER;CN="ModerationMonth":MAILTO:moderationmonth@moderation.org
END:VEVENT
END:VCALENDAR