BEGIN:VCALENDAR
VERSION:2.0
PRODID:-//Kickstart Moderation Program - ECPv6.15.20//NONSGML v1.0//EN
CALSCALE:GREGORIAN
METHOD:PUBLISH
X-ORIGINAL-URL:https://moderationmonth.org
X-WR-CALDESC:Events for Kickstart Moderation Program
REFRESH-INTERVAL;VALUE=DURATION:PT1H
X-Robots-Tag:noindex
X-PUBLISHED-TTL:PT1H
BEGIN:VTIMEZONE
TZID:America/New_York
BEGIN:DAYLIGHT
TZOFFSETFROM:-0500
TZOFFSETTO:-0400
TZNAME:EDT
DTSTART:20220313T070000
END:DAYLIGHT
BEGIN:STANDARD
TZOFFSETFROM:-0400
TZOFFSETTO:-0500
TZNAME:EST
DTSTART:20221106T060000
END:STANDARD
BEGIN:DAYLIGHT
TZOFFSETFROM:-0500
TZOFFSETTO:-0400
TZNAME:EDT
DTSTART:20230312T070000
END:DAYLIGHT
BEGIN:STANDARD
TZOFFSETFROM:-0400
TZOFFSETTO:-0500
TZNAME:EST
DTSTART:20231105T060000
END:STANDARD
BEGIN:DAYLIGHT
TZOFFSETFROM:-0500
TZOFFSETTO:-0400
TZNAME:EDT
DTSTART:20240310T070000
END:DAYLIGHT
BEGIN:STANDARD
TZOFFSETFROM:-0400
TZOFFSETTO:-0500
TZNAME:EST
DTSTART:20241103T060000
END:STANDARD
END:VTIMEZONE
BEGIN:VEVENT
DTSTART;TZID=America/New_York:20230501T140000
DTEND;TZID=America/New_York:20230501T150000
DTSTAMP:20260425T221820
CREATED:20230429T184541Z
LAST-MODIFIED:20230429T190338Z
UID:10000865-1682949600-1682953200@moderationmonth.org
SUMMARY:Cancelled! Monday Afternoon Kickstart Meeting: 2:00 PM ET
DESCRIPTION:We're sorry\, you don't seem to have access to this page. Please check to see if you are logged in by going to the Kickstart Login Page.  If you have registered for the Kickstart Moderation Team Program\, you will not have access to the course lessons until the program begins. If you have not registered for the program\, we hope you will join us soon. Register now. \n  \n  \n            \n\n                       \n            \n        \n                              Username\n        \n        \n      \n      \n        \n          Password\n          \n            \n            \n              \n            \n          \n        \n      \n            \n         Remember Me\n      \n       \n      \n        \n        \n        \n        \n      \n    \n     \n    \n        \n          Forgot Password
URL:https://moderationmonth.org/event/monday-afternoon-kickstart-meeting-200-pm-et-2/
CATEGORIES:Video Meeting
ATTACH;FMTTYPE=image/jpeg:https://moderationmonth.org/wp-content/uploads/2023/03/be5avkfv9ho.jpg
ORGANIZER;CN="Mary Reid":MAILTO:mary@moderation.org
END:VEVENT
BEGIN:VEVENT
DTSTART;TZID=America/New_York:20230501T190000
DTEND;TZID=America/New_York:20230501T200000
DTSTAMP:20260425T221820
CREATED:20230306T162832Z
LAST-MODIFIED:20230811T200524Z
UID:10000339-1682967600-1682971200@moderationmonth.org
SUMMARY:Kickstart Monday Evening Meeting: 7:00 PM Eastern Time
DESCRIPTION:We're sorry\, you don't seem to have access to this page. Please check to see if you are logged in by going to the Kickstart Login Page.  If you have registered for the Kickstart Moderation Team Program\, you will not have access to the course lessons until the program begins. If you have not registered for the program\, we hope you will join us soon. Register now.
URL:https://moderationmonth.org/event/kickstart-monday-evening-meeting-800-pm-eastern-time-2/2023-05-01/
CATEGORIES:Video Meeting
ATTACH;FMTTYPE=image/jpeg:https://moderationmonth.org/wp-content/uploads/2022/10/smgtvepind4.jpg
ORGANIZER;CN="ModerationMonth":MAILTO:moderationmonth@moderation.org
END:VEVENT
BEGIN:VEVENT
DTSTART;TZID=America/New_York:20230503T203000
DTEND;TZID=America/New_York:20230503T213000
DTSTAMP:20260425T221820
CREATED:20230329T122631Z
LAST-MODIFIED:20230607T180208Z
UID:10001136-1683145800-1683149400@moderationmonth.org
SUMMARY:Kickstart Wednesday Evening Meeting 8:30 PM ET
DESCRIPTION:We're sorry\, you don't seem to have access to this page. Please check to see if you are logged in by going to the Kickstart Login Page.  If you have registered for the Kickstart Moderation Team Program\, you will not have access to the course lessons until the program begins. If you have not registered for the program\, we hope you will join us soon. Register now.
URL:https://moderationmonth.org/event/kickstart-wednesday-evening-meeting-2-2/2023-05-03/
CATEGORIES:Video Meeting
ATTACH;FMTTYPE=image/jpeg:https://moderationmonth.org/wp-content/uploads/2023/01/tjesicve-tu.jpg
ORGANIZER;CN="ModerationMonth":MAILTO:moderationmonth@moderation.org
END:VEVENT
BEGIN:VEVENT
DTSTART;TZID=America/New_York:20230503T203000
DTEND;TZID=America/New_York:20230503T213000
DTSTAMP:20260425T221820
CREATED:20230420T182125Z
LAST-MODIFIED:20230420T182126Z
UID:10000599-1683145800-1683149400@moderationmonth.org
SUMMARY:Shameover Presentation: Find Your Start Button! 8:30 PM ET-Kickstart Meeting to Follow
DESCRIPTION:We're sorry\, you don't seem to have access to this page. Please check to see if you are logged in by going to the Kickstart Login Page.  If you have registered for the Kickstart Moderation Team Program\, you will not have access to the course lessons until the program begins. If you have not registered for the program\, we hope you will join us soon. Register now.
URL:https://moderationmonth.org/event/kickstart-wednesday-evening-meeting-2-2-2/
CATEGORIES:Video Meeting,Video Presentation
ATTACH;FMTTYPE=image/png:https://moderationmonth.org/wp-content/uploads/2023/03/ShameOver-MM-200-x-100-px.png
ORGANIZER;CN="ModerationMonth":MAILTO:moderationmonth@moderation.org
END:VEVENT
BEGIN:VEVENT
DTSTART;TZID=America/New_York:20230508T140000
DTEND;TZID=America/New_York:20230508T150000
DTSTAMP:20260425T221820
CREATED:20230305T143847Z
LAST-MODIFIED:20230305T144515Z
UID:10000866-1683554400-1683558000@moderationmonth.org
SUMMARY:Monday Afternoon Kickstart Meeting: 2:00 PM ET
DESCRIPTION:We're sorry\, you don't seem to have access to this page. Please check to see if you are logged in by going to the Kickstart Login Page.  If you have registered for the Kickstart Moderation Team Program\, you will not have access to the course lessons until the program begins. If you have not registered for the program\, we hope you will join us soon. Register now.
URL:https://moderationmonth.org/event/monday-afternoon-kickstart-meeting-200-pm-et/2023-05-08/
CATEGORIES:Video Meeting
ATTACH;FMTTYPE=image/jpeg:https://moderationmonth.org/wp-content/uploads/2023/03/be5avkfv9ho.jpg
ORGANIZER;CN="Mary Reid":MAILTO:mary@moderation.org
END:VEVENT
BEGIN:VEVENT
DTSTART;TZID=America/New_York:20230508T190000
DTEND;TZID=America/New_York:20230508T200000
DTSTAMP:20260425T221820
CREATED:20230306T162832Z
LAST-MODIFIED:20230811T200524Z
UID:10000340-1683572400-1683576000@moderationmonth.org
SUMMARY:Kickstart Monday Evening Meeting: 7:00 PM Eastern Time
DESCRIPTION:We're sorry\, you don't seem to have access to this page. Please check to see if you are logged in by going to the Kickstart Login Page.  If you have registered for the Kickstart Moderation Team Program\, you will not have access to the course lessons until the program begins. If you have not registered for the program\, we hope you will join us soon. Register now.
URL:https://moderationmonth.org/event/kickstart-monday-evening-meeting-800-pm-eastern-time-2/2023-05-08/
CATEGORIES:Video Meeting
ATTACH;FMTTYPE=image/jpeg:https://moderationmonth.org/wp-content/uploads/2022/10/smgtvepind4.jpg
ORGANIZER;CN="ModerationMonth":MAILTO:moderationmonth@moderation.org
END:VEVENT
BEGIN:VEVENT
DTSTART;TZID=America/New_York:20230510T203000
DTEND;TZID=America/New_York:20230510T213000
DTSTAMP:20260425T221820
CREATED:20230329T122631Z
LAST-MODIFIED:20230607T180208Z
UID:10000600-1683750600-1683754200@moderationmonth.org
SUMMARY:Kickstart Wednesday Evening Meeting 8:30 PM ET
DESCRIPTION:We're sorry\, you don't seem to have access to this page. Please check to see if you are logged in by going to the Kickstart Login Page.  If you have registered for the Kickstart Moderation Team Program\, you will not have access to the course lessons until the program begins. If you have not registered for the program\, we hope you will join us soon. Register now.
URL:https://moderationmonth.org/event/kickstart-wednesday-evening-meeting-2-2/2023-05-10/
CATEGORIES:Video Meeting
ATTACH;FMTTYPE=image/jpeg:https://moderationmonth.org/wp-content/uploads/2023/01/tjesicve-tu.jpg
ORGANIZER;CN="ModerationMonth":MAILTO:moderationmonth@moderation.org
END:VEVENT
BEGIN:VEVENT
DTSTART;TZID=America/New_York:20230515T140000
DTEND;TZID=America/New_York:20230515T150000
DTSTAMP:20260425T221820
CREATED:20230305T143847Z
LAST-MODIFIED:20230305T144515Z
UID:10000867-1684159200-1684162800@moderationmonth.org
SUMMARY:Monday Afternoon Kickstart Meeting: 2:00 PM ET
DESCRIPTION:We're sorry\, you don't seem to have access to this page. Please check to see if you are logged in by going to the Kickstart Login Page.  If you have registered for the Kickstart Moderation Team Program\, you will not have access to the course lessons until the program begins. If you have not registered for the program\, we hope you will join us soon. Register now.
URL:https://moderationmonth.org/event/monday-afternoon-kickstart-meeting-200-pm-et/2023-05-15/
CATEGORIES:Video Meeting
ATTACH;FMTTYPE=image/jpeg:https://moderationmonth.org/wp-content/uploads/2023/03/be5avkfv9ho.jpg
ORGANIZER;CN="Mary Reid":MAILTO:mary@moderation.org
END:VEVENT
BEGIN:VEVENT
DTSTART;TZID=America/New_York:20230515T190000
DTEND;TZID=America/New_York:20230515T200000
DTSTAMP:20260425T221820
CREATED:20230510T182620Z
LAST-MODIFIED:20230510T183202Z
UID:10000341-1684177200-1684180800@moderationmonth.org
SUMMARY:Group Coaching Session with Molly Watts: ALIGNING OUR INTENTIONS WITH ACTIONS: MAKING PLANS AND KEEPING THEM; 7:00 PM Eastern Time
DESCRIPTION:We're sorry\, you don't seem to have access to this page. Please check to see if you are logged in by going to the Kickstart Login Page.  If you have registered for the Kickstart Moderation Team Program\, you will not have access to the course lessons until the program begins. If you have not registered for the program\, we hope you will join us soon. Register now.
URL:https://moderationmonth.org/event/kickstart-monday-evening-meeting-800-pm-eastern-time-2-2/
CATEGORIES:Video Meeting
ATTACH;FMTTYPE=image/png:https://moderationmonth.org/wp-content/uploads/2023/03/Choose-Peace-T-Final-Reduced2.png
ORGANIZER;CN="ModerationMonth":MAILTO:moderationmonth@moderation.org
END:VEVENT
BEGIN:VEVENT
DTSTART;TZID=America/New_York:20230517T203000
DTEND;TZID=America/New_York:20230517T213000
DTSTAMP:20260425T221820
CREATED:20230329T122631Z
LAST-MODIFIED:20230607T180208Z
UID:10000601-1684355400-1684359000@moderationmonth.org
SUMMARY:Kickstart Wednesday Evening Meeting 8:30 PM ET
DESCRIPTION:We're sorry\, you don't seem to have access to this page. Please check to see if you are logged in by going to the Kickstart Login Page.  If you have registered for the Kickstart Moderation Team Program\, you will not have access to the course lessons until the program begins. If you have not registered for the program\, we hope you will join us soon. Register now.
URL:https://moderationmonth.org/event/kickstart-wednesday-evening-meeting-2-2/2023-05-17/
CATEGORIES:Video Meeting
ATTACH;FMTTYPE=image/jpeg:https://moderationmonth.org/wp-content/uploads/2023/01/tjesicve-tu.jpg
ORGANIZER;CN="ModerationMonth":MAILTO:moderationmonth@moderation.org
END:VEVENT
BEGIN:VEVENT
DTSTART;TZID=America/New_York:20230522T140000
DTEND;TZID=America/New_York:20230522T150000
DTSTAMP:20260425T221820
CREATED:20230305T143847Z
LAST-MODIFIED:20230305T144515Z
UID:10000868-1684764000-1684767600@moderationmonth.org
SUMMARY:Monday Afternoon Kickstart Meeting: 2:00 PM ET
DESCRIPTION:We're sorry\, you don't seem to have access to this page. Please check to see if you are logged in by going to the Kickstart Login Page.  If you have registered for the Kickstart Moderation Team Program\, you will not have access to the course lessons until the program begins. If you have not registered for the program\, we hope you will join us soon. Register now.
URL:https://moderationmonth.org/event/monday-afternoon-kickstart-meeting-200-pm-et/2023-05-22/
CATEGORIES:Video Meeting
ATTACH;FMTTYPE=image/jpeg:https://moderationmonth.org/wp-content/uploads/2023/03/be5avkfv9ho.jpg
ORGANIZER;CN="Mary Reid":MAILTO:mary@moderation.org
END:VEVENT
BEGIN:VEVENT
DTSTART;TZID=America/New_York:20230522T190000
DTEND;TZID=America/New_York:20230522T200000
DTSTAMP:20260425T221820
CREATED:20230306T162832Z
LAST-MODIFIED:20230811T200524Z
UID:10000342-1684782000-1684785600@moderationmonth.org
SUMMARY:Kickstart Monday Evening Meeting: 7:00 PM Eastern Time
DESCRIPTION:We're sorry\, you don't seem to have access to this page. Please check to see if you are logged in by going to the Kickstart Login Page.  If you have registered for the Kickstart Moderation Team Program\, you will not have access to the course lessons until the program begins. If you have not registered for the program\, we hope you will join us soon. Register now.
URL:https://moderationmonth.org/event/kickstart-monday-evening-meeting-800-pm-eastern-time-2/2023-05-22/
CATEGORIES:Video Meeting
ATTACH;FMTTYPE=image/jpeg:https://moderationmonth.org/wp-content/uploads/2022/10/smgtvepind4.jpg
ORGANIZER;CN="ModerationMonth":MAILTO:moderationmonth@moderation.org
END:VEVENT
BEGIN:VEVENT
DTSTART;TZID=America/New_York:20230524T203000
DTEND;TZID=America/New_York:20230524T213000
DTSTAMP:20260425T221820
CREATED:20230329T122631Z
LAST-MODIFIED:20230607T180208Z
UID:10000602-1684960200-1684963800@moderationmonth.org
SUMMARY:Kickstart Wednesday Evening Meeting 8:30 PM ET
DESCRIPTION:We're sorry\, you don't seem to have access to this page. Please check to see if you are logged in by going to the Kickstart Login Page.  If you have registered for the Kickstart Moderation Team Program\, you will not have access to the course lessons until the program begins. If you have not registered for the program\, we hope you will join us soon. Register now.
URL:https://moderationmonth.org/event/kickstart-wednesday-evening-meeting-2-2/2023-05-24/
CATEGORIES:Video Meeting
ATTACH;FMTTYPE=image/jpeg:https://moderationmonth.org/wp-content/uploads/2023/01/tjesicve-tu.jpg
ORGANIZER;CN="ModerationMonth":MAILTO:moderationmonth@moderation.org
END:VEVENT
BEGIN:VEVENT
DTSTART;TZID=America/New_York:20230529T140000
DTEND;TZID=America/New_York:20230529T150000
DTSTAMP:20260425T221820
CREATED:20230528T200628Z
LAST-MODIFIED:20230528T200630Z
UID:10000869-1685368800-1685372400@moderationmonth.org
SUMMARY:CANCELLED: Monday Afternoon Kickstart Meeting: 2:00 PM ET
DESCRIPTION:We're sorry\, you don't seem to have access to this page. Please check to see if you are logged in by going to the Kickstart Login Page.  If you have registered for the Kickstart Moderation Team Program\, you will not have access to the course lessons until the program begins. If you have not registered for the program\, we hope you will join us soon. Register now.
URL:https://moderationmonth.org/event/monday-afternoon-kickstart-meeting-200-pm-et-3/
CATEGORIES:Video Meeting
ATTACH;FMTTYPE=image/jpeg:https://moderationmonth.org/wp-content/uploads/2023/03/be5avkfv9ho.jpg
ORGANIZER;CN="Mary Reid":MAILTO:mary@moderation.org
END:VEVENT
BEGIN:VEVENT
DTSTART;TZID=America/New_York:20230529T190000
DTEND;TZID=America/New_York:20230529T200000
DTSTAMP:20260425T221820
CREATED:20230528T200931Z
LAST-MODIFIED:20230528T200933Z
UID:10000343-1685386800-1685390400@moderationmonth.org
SUMMARY:CANCELLED. Kickstart Monday Evening Meeting: 7:00 PM Eastern Time
DESCRIPTION:We're sorry\, you don't seem to have access to this page. Please check to see if you are logged in by going to the Kickstart Login Page.  If you have registered for the Kickstart Moderation Team Program\, you will not have access to the course lessons until the program begins. If you have not registered for the program\, we hope you will join us soon. Register now.
URL:https://moderationmonth.org/event/kickstart-monday-evening-meeting-800-pm-eastern-time-2-3/
CATEGORIES:Video Meeting
ATTACH;FMTTYPE=image/jpeg:https://moderationmonth.org/wp-content/uploads/2022/10/smgtvepind4.jpg
ORGANIZER;CN="ModerationMonth":MAILTO:moderationmonth@moderation.org
END:VEVENT
BEGIN:VEVENT
DTSTART;TZID=America/New_York:20230531T203000
DTEND;TZID=America/New_York:20230531T213000
DTSTAMP:20260425T221820
CREATED:20230329T122631Z
LAST-MODIFIED:20230607T180208Z
UID:10000603-1685565000-1685568600@moderationmonth.org
SUMMARY:Kickstart Wednesday Evening Meeting 8:30 PM ET
DESCRIPTION:We're sorry\, you don't seem to have access to this page. Please check to see if you are logged in by going to the Kickstart Login Page.  If you have registered for the Kickstart Moderation Team Program\, you will not have access to the course lessons until the program begins. If you have not registered for the program\, we hope you will join us soon. Register now.
URL:https://moderationmonth.org/event/kickstart-wednesday-evening-meeting-2-2/2023-05-31/
CATEGORIES:Video Meeting
ATTACH;FMTTYPE=image/jpeg:https://moderationmonth.org/wp-content/uploads/2023/01/tjesicve-tu.jpg
ORGANIZER;CN="ModerationMonth":MAILTO:moderationmonth@moderation.org
END:VEVENT
END:VCALENDAR