BEGIN:VCALENDAR
VERSION:2.0
PRODID:-//Kickstart Moderation Program - ECPv6.15.20//NONSGML v1.0//EN
CALSCALE:GREGORIAN
METHOD:PUBLISH
X-ORIGINAL-URL:https://moderationmonth.org
X-WR-CALDESC:Events for Kickstart Moderation Program
REFRESH-INTERVAL;VALUE=DURATION:PT1H
X-Robots-Tag:noindex
X-PUBLISHED-TTL:PT1H
BEGIN:VTIMEZONE
TZID:America/New_York
BEGIN:DAYLIGHT
TZOFFSETFROM:-0500
TZOFFSETTO:-0400
TZNAME:EDT
DTSTART:20220313T070000
END:DAYLIGHT
BEGIN:STANDARD
TZOFFSETFROM:-0400
TZOFFSETTO:-0500
TZNAME:EST
DTSTART:20221106T060000
END:STANDARD
BEGIN:DAYLIGHT
TZOFFSETFROM:-0500
TZOFFSETTO:-0400
TZNAME:EDT
DTSTART:20230312T070000
END:DAYLIGHT
BEGIN:STANDARD
TZOFFSETFROM:-0400
TZOFFSETTO:-0500
TZNAME:EST
DTSTART:20231105T060000
END:STANDARD
BEGIN:DAYLIGHT
TZOFFSETFROM:-0500
TZOFFSETTO:-0400
TZNAME:EDT
DTSTART:20240310T070000
END:DAYLIGHT
BEGIN:STANDARD
TZOFFSETFROM:-0400
TZOFFSETTO:-0500
TZNAME:EST
DTSTART:20241103T060000
END:STANDARD
END:VTIMEZONE
BEGIN:VEVENT
DTSTART;TZID=America/New_York:20230403T140000
DTEND;TZID=America/New_York:20230403T150000
DTSTAMP:20260425T234442
CREATED:20230305T143847Z
LAST-MODIFIED:20230305T144515Z
UID:10000861-1680530400-1680534000@moderationmonth.org
SUMMARY:Monday Afternoon Kickstart Meeting: 2:00 PM ET
DESCRIPTION:We're sorry\, you don't seem to have access to this page. Please check to see if you are logged in by going to the Kickstart Login Page.  If you have registered for the Kickstart Moderation Team Program\, you will not have access to the course lessons until the program begins. If you have not registered for the program\, we hope you will join us soon. Register now. \n  \n  \n            \n\n                       \n            \n        \n                              Username\n        \n        \n      \n      \n        \n          Password\n          \n            \n            \n              \n            \n          \n        \n      \n            \n         Remember Me\n      \n       \n      \n        \n        \n        \n        \n      \n    \n     \n    \n        \n          Forgot Password
URL:https://moderationmonth.org/event/monday-afternoon-kickstart-meeting-200-pm-et/2023-04-03/
CATEGORIES:Video Meeting
ATTACH;FMTTYPE=image/jpeg:https://moderationmonth.org/wp-content/uploads/2023/03/be5avkfv9ho.jpg
ORGANIZER;CN="Mary Reid":MAILTO:mary@moderation.org
END:VEVENT
BEGIN:VEVENT
DTSTART;TZID=America/New_York:20230403T190000
DTEND;TZID=America/New_York:20230403T200000
DTSTAMP:20260425T234442
CREATED:20230306T162832Z
LAST-MODIFIED:20230811T200524Z
UID:10000335-1680548400-1680552000@moderationmonth.org
SUMMARY:Kickstart Monday Evening Meeting: 7:00 PM Eastern Time
DESCRIPTION:We're sorry\, you don't seem to have access to this page. Please check to see if you are logged in by going to the Kickstart Login Page.  If you have registered for the Kickstart Moderation Team Program\, you will not have access to the course lessons until the program begins. If you have not registered for the program\, we hope you will join us soon. Register now.
URL:https://moderationmonth.org/event/kickstart-monday-evening-meeting-800-pm-eastern-time-2/2023-04-03/
CATEGORIES:Video Meeting
ATTACH;FMTTYPE=image/jpeg:https://moderationmonth.org/wp-content/uploads/2022/10/smgtvepind4.jpg
ORGANIZER;CN="ModerationMonth":MAILTO:moderationmonth@moderation.org
END:VEVENT
BEGIN:VEVENT
DTSTART;TZID=America/New_York:20230405T203000
DTEND;TZID=America/New_York:20230405T213000
DTSTAMP:20260425T234442
CREATED:20230329T122631Z
LAST-MODIFIED:20230607T180208Z
UID:10000595-1680726600-1680730200@moderationmonth.org
SUMMARY:Kickstart Wednesday Evening Meeting 8:30 PM ET
DESCRIPTION:We're sorry\, you don't seem to have access to this page. Please check to see if you are logged in by going to the Kickstart Login Page.  If you have registered for the Kickstart Moderation Team Program\, you will not have access to the course lessons until the program begins. If you have not registered for the program\, we hope you will join us soon. Register now.
URL:https://moderationmonth.org/event/kickstart-wednesday-evening-meeting-2-2/2023-04-05/
CATEGORIES:Video Meeting
ATTACH;FMTTYPE=image/jpeg:https://moderationmonth.org/wp-content/uploads/2023/01/tjesicve-tu.jpg
ORGANIZER;CN="ModerationMonth":MAILTO:moderationmonth@moderation.org
END:VEVENT
BEGIN:VEVENT
DTSTART;TZID=America/New_York:20230410T140000
DTEND;TZID=America/New_York:20230410T150000
DTSTAMP:20260425T234442
CREATED:20230305T143847Z
LAST-MODIFIED:20230305T144515Z
UID:10000862-1681135200-1681138800@moderationmonth.org
SUMMARY:Monday Afternoon Kickstart Meeting: 2:00 PM ET
DESCRIPTION:We're sorry\, you don't seem to have access to this page. Please check to see if you are logged in by going to the Kickstart Login Page.  If you have registered for the Kickstart Moderation Team Program\, you will not have access to the course lessons until the program begins. If you have not registered for the program\, we hope you will join us soon. Register now.
URL:https://moderationmonth.org/event/monday-afternoon-kickstart-meeting-200-pm-et/2023-04-10/
CATEGORIES:Video Meeting
ATTACH;FMTTYPE=image/jpeg:https://moderationmonth.org/wp-content/uploads/2023/03/be5avkfv9ho.jpg
ORGANIZER;CN="Mary Reid":MAILTO:mary@moderation.org
END:VEVENT
BEGIN:VEVENT
DTSTART;TZID=America/New_York:20230410T190000
DTEND;TZID=America/New_York:20230410T200000
DTSTAMP:20260425T234442
CREATED:20230306T162832Z
LAST-MODIFIED:20230811T200524Z
UID:10000336-1681153200-1681156800@moderationmonth.org
SUMMARY:Kickstart Monday Evening Meeting: 7:00 PM Eastern Time
DESCRIPTION:We're sorry\, you don't seem to have access to this page. Please check to see if you are logged in by going to the Kickstart Login Page.  If you have registered for the Kickstart Moderation Team Program\, you will not have access to the course lessons until the program begins. If you have not registered for the program\, we hope you will join us soon. Register now.
URL:https://moderationmonth.org/event/kickstart-monday-evening-meeting-800-pm-eastern-time-2/2023-04-10/
CATEGORIES:Video Meeting
ATTACH;FMTTYPE=image/jpeg:https://moderationmonth.org/wp-content/uploads/2022/10/smgtvepind4.jpg
ORGANIZER;CN="ModerationMonth":MAILTO:moderationmonth@moderation.org
END:VEVENT
BEGIN:VEVENT
DTSTART;TZID=America/New_York:20230412T203000
DTEND;TZID=America/New_York:20230412T213000
DTSTAMP:20260425T234442
CREATED:20230329T122631Z
LAST-MODIFIED:20230607T180208Z
UID:10000596-1681331400-1681335000@moderationmonth.org
SUMMARY:Kickstart Wednesday Evening Meeting 8:30 PM ET
DESCRIPTION:We're sorry\, you don't seem to have access to this page. Please check to see if you are logged in by going to the Kickstart Login Page.  If you have registered for the Kickstart Moderation Team Program\, you will not have access to the course lessons until the program begins. If you have not registered for the program\, we hope you will join us soon. Register now.
URL:https://moderationmonth.org/event/kickstart-wednesday-evening-meeting-2-2/2023-04-12/
CATEGORIES:Video Meeting
ATTACH;FMTTYPE=image/jpeg:https://moderationmonth.org/wp-content/uploads/2023/01/tjesicve-tu.jpg
ORGANIZER;CN="ModerationMonth":MAILTO:moderationmonth@moderation.org
END:VEVENT
BEGIN:VEVENT
DTSTART;TZID=America/New_York:20230417T140000
DTEND;TZID=America/New_York:20230417T150000
DTSTAMP:20260425T234442
CREATED:20230305T143847Z
LAST-MODIFIED:20230305T144515Z
UID:10000863-1681740000-1681743600@moderationmonth.org
SUMMARY:Monday Afternoon Kickstart Meeting: 2:00 PM ET
DESCRIPTION:We're sorry\, you don't seem to have access to this page. Please check to see if you are logged in by going to the Kickstart Login Page.  If you have registered for the Kickstart Moderation Team Program\, you will not have access to the course lessons until the program begins. If you have not registered for the program\, we hope you will join us soon. Register now.
URL:https://moderationmonth.org/event/monday-afternoon-kickstart-meeting-200-pm-et/2023-04-17/
CATEGORIES:Video Meeting
ATTACH;FMTTYPE=image/jpeg:https://moderationmonth.org/wp-content/uploads/2023/03/be5avkfv9ho.jpg
ORGANIZER;CN="Mary Reid":MAILTO:mary@moderation.org
END:VEVENT
BEGIN:VEVENT
DTSTART;TZID=America/New_York:20230417T190000
DTEND;TZID=America/New_York:20230417T200000
DTSTAMP:20260425T234442
CREATED:20230306T162832Z
LAST-MODIFIED:20230811T200524Z
UID:10000337-1681758000-1681761600@moderationmonth.org
SUMMARY:Kickstart Monday Evening Meeting: 7:00 PM Eastern Time
DESCRIPTION:We're sorry\, you don't seem to have access to this page. Please check to see if you are logged in by going to the Kickstart Login Page.  If you have registered for the Kickstart Moderation Team Program\, you will not have access to the course lessons until the program begins. If you have not registered for the program\, we hope you will join us soon. Register now.
URL:https://moderationmonth.org/event/kickstart-monday-evening-meeting-800-pm-eastern-time-2/2023-04-17/
CATEGORIES:Video Meeting
ATTACH;FMTTYPE=image/jpeg:https://moderationmonth.org/wp-content/uploads/2022/10/smgtvepind4.jpg
ORGANIZER;CN="ModerationMonth":MAILTO:moderationmonth@moderation.org
END:VEVENT
BEGIN:VEVENT
DTSTART;TZID=America/New_York:20230419T203000
DTEND;TZID=America/New_York:20230419T213000
DTSTAMP:20260425T234442
CREATED:20230329T122631Z
LAST-MODIFIED:20230607T180208Z
UID:10000597-1681936200-1681939800@moderationmonth.org
SUMMARY:Kickstart Wednesday Evening Meeting 8:30 PM ET
DESCRIPTION:We're sorry\, you don't seem to have access to this page. Please check to see if you are logged in by going to the Kickstart Login Page.  If you have registered for the Kickstart Moderation Team Program\, you will not have access to the course lessons until the program begins. If you have not registered for the program\, we hope you will join us soon. Register now.
URL:https://moderationmonth.org/event/kickstart-wednesday-evening-meeting-2-2/2023-04-19/
CATEGORIES:Video Meeting
ATTACH;FMTTYPE=image/jpeg:https://moderationmonth.org/wp-content/uploads/2023/01/tjesicve-tu.jpg
ORGANIZER;CN="ModerationMonth":MAILTO:moderationmonth@moderation.org
END:VEVENT
BEGIN:VEVENT
DTSTART;TZID=America/New_York:20230424T140000
DTEND;TZID=America/New_York:20230424T150000
DTSTAMP:20260425T234442
CREATED:20230305T143847Z
LAST-MODIFIED:20230305T144515Z
UID:10000864-1682344800-1682348400@moderationmonth.org
SUMMARY:Monday Afternoon Kickstart Meeting: 2:00 PM ET
DESCRIPTION:We're sorry\, you don't seem to have access to this page. Please check to see if you are logged in by going to the Kickstart Login Page.  If you have registered for the Kickstart Moderation Team Program\, you will not have access to the course lessons until the program begins. If you have not registered for the program\, we hope you will join us soon. Register now.
URL:https://moderationmonth.org/event/monday-afternoon-kickstart-meeting-200-pm-et/2023-04-24/
CATEGORIES:Video Meeting
ATTACH;FMTTYPE=image/jpeg:https://moderationmonth.org/wp-content/uploads/2023/03/be5avkfv9ho.jpg
ORGANIZER;CN="Mary Reid":MAILTO:mary@moderation.org
END:VEVENT
BEGIN:VEVENT
DTSTART;TZID=America/New_York:20230424T190000
DTEND;TZID=America/New_York:20230424T200000
DTSTAMP:20260425T234442
CREATED:20230306T162832Z
LAST-MODIFIED:20230811T200524Z
UID:10000338-1682362800-1682366400@moderationmonth.org
SUMMARY:Kickstart Monday Evening Meeting: 7:00 PM Eastern Time
DESCRIPTION:We're sorry\, you don't seem to have access to this page. Please check to see if you are logged in by going to the Kickstart Login Page.  If you have registered for the Kickstart Moderation Team Program\, you will not have access to the course lessons until the program begins. If you have not registered for the program\, we hope you will join us soon. Register now.
URL:https://moderationmonth.org/event/kickstart-monday-evening-meeting-800-pm-eastern-time-2/2023-04-24/
CATEGORIES:Video Meeting
ATTACH;FMTTYPE=image/jpeg:https://moderationmonth.org/wp-content/uploads/2022/10/smgtvepind4.jpg
ORGANIZER;CN="ModerationMonth":MAILTO:moderationmonth@moderation.org
END:VEVENT
BEGIN:VEVENT
DTSTART;TZID=America/New_York:20230426T203000
DTEND;TZID=America/New_York:20230426T213000
DTSTAMP:20260425T234442
CREATED:20230329T122631Z
LAST-MODIFIED:20230607T180208Z
UID:10000598-1682541000-1682544600@moderationmonth.org
SUMMARY:Kickstart Wednesday Evening Meeting 8:30 PM ET
DESCRIPTION:We're sorry\, you don't seem to have access to this page. Please check to see if you are logged in by going to the Kickstart Login Page.  If you have registered for the Kickstart Moderation Team Program\, you will not have access to the course lessons until the program begins. If you have not registered for the program\, we hope you will join us soon. Register now.
URL:https://moderationmonth.org/event/kickstart-wednesday-evening-meeting-2-2/2023-04-26/
CATEGORIES:Video Meeting
ATTACH;FMTTYPE=image/jpeg:https://moderationmonth.org/wp-content/uploads/2023/01/tjesicve-tu.jpg
ORGANIZER;CN="ModerationMonth":MAILTO:moderationmonth@moderation.org
END:VEVENT
END:VCALENDAR