BEGIN:VCALENDAR
VERSION:2.0
PRODID:-//Kickstart Moderation Program - ECPv6.15.20//NONSGML v1.0//EN
CALSCALE:GREGORIAN
METHOD:PUBLISH
X-WR-CALNAME:Kickstart Moderation Program
X-ORIGINAL-URL:https://moderationmonth.org
X-WR-CALDESC:Events for Kickstart Moderation Program
REFRESH-INTERVAL;VALUE=DURATION:PT1H
X-Robots-Tag:noindex
X-PUBLISHED-TTL:PT1H
BEGIN:VTIMEZONE
TZID:America/New_York
BEGIN:DAYLIGHT
TZOFFSETFROM:-0500
TZOFFSETTO:-0400
TZNAME:EDT
DTSTART:20230312T070000
END:DAYLIGHT
BEGIN:STANDARD
TZOFFSETFROM:-0400
TZOFFSETTO:-0500
TZNAME:EST
DTSTART:20231105T060000
END:STANDARD
BEGIN:DAYLIGHT
TZOFFSETFROM:-0500
TZOFFSETTO:-0400
TZNAME:EDT
DTSTART:20240310T070000
END:DAYLIGHT
BEGIN:STANDARD
TZOFFSETFROM:-0400
TZOFFSETTO:-0500
TZNAME:EST
DTSTART:20241103T060000
END:STANDARD
BEGIN:DAYLIGHT
TZOFFSETFROM:-0500
TZOFFSETTO:-0400
TZNAME:EDT
DTSTART:20250309T070000
END:DAYLIGHT
BEGIN:STANDARD
TZOFFSETFROM:-0400
TZOFFSETTO:-0500
TZNAME:EST
DTSTART:20251102T060000
END:STANDARD
BEGIN:DAYLIGHT
TZOFFSETFROM:-0500
TZOFFSETTO:-0400
TZNAME:EDT
DTSTART:20260308T070000
END:DAYLIGHT
BEGIN:STANDARD
TZOFFSETFROM:-0400
TZOFFSETTO:-0500
TZNAME:EST
DTSTART:20261101T060000
END:STANDARD
BEGIN:DAYLIGHT
TZOFFSETFROM:-0500
TZOFFSETTO:-0400
TZNAME:EDT
DTSTART:20270314T070000
END:DAYLIGHT
BEGIN:STANDARD
TZOFFSETFROM:-0400
TZOFFSETTO:-0500
TZNAME:EST
DTSTART:20271107T060000
END:STANDARD
END:VTIMEZONE
BEGIN:VEVENT
DTSTART;TZID=America/New_York:20260126T190000
DTEND;TZID=America/New_York:20260126T200000
DTSTAMP:20260423T180838
CREATED:20251223T153354Z
LAST-MODIFIED:20251223T153354Z
UID:10001888-1769454000-1769457600@moderationmonth.org
SUMMARY:Dryuary - Weekly Kickstart Meeting
DESCRIPTION:We're sorry\, you don't seem to have access to this page. Please check to see if you are logged in by going to the Kickstart Login Page.  If you have registered for the Kickstart Moderation Team Program\, you will not have access to the course lessons until the program begins. If you have not registered for the program\, we hope you will join us soon. Register now. \n  \n  \n            \n\n                       \n            \n        \n                              Username\n        \n        \n      \n      \n        \n          Password\n          \n            \n            \n              \n            \n          \n        \n      \n            \n         Remember Me\n      \n       \n      \n        \n        \n        \n        \n      \n    \n     \n    \n        \n          Forgot Password
URL:https://moderationmonth.org/event/dryuary-weekly-kickstart-meeting/2026-01-26/
ATTACH;FMTTYPE=image/jpeg:https://moderationmonth.org/wp-content/uploads/2025/12/0vcyths4bho.jpg
END:VEVENT
BEGIN:VEVENT
DTSTART;TZID=America/New_York:20260119T190000
DTEND;TZID=America/New_York:20260119T200000
DTSTAMP:20260423T180838
CREATED:20251223T153813Z
LAST-MODIFIED:20260115T222127Z
UID:10001887-1768849200-1768852800@moderationmonth.org
SUMMARY:Dryuary - Weekly Kickstart Meeting and Mocktail Mixology Class!
DESCRIPTION:We're sorry\, you don't seem to have access to this page. Please check to see if you are logged in by going to the Kickstart Login Page.  If you have registered for the Kickstart Moderation Team Program\, you will not have access to the course lessons until the program begins. If you have not registered for the program\, we hope you will join us soon. Register now.
URL:https://moderationmonth.org/event/dryuary-weekly-kickstart-meeting-2/
ATTACH;FMTTYPE=image/jpeg:https://moderationmonth.org/wp-content/uploads/2025/12/mocktail-school-3_orig.jpeg
END:VEVENT
BEGIN:VEVENT
DTSTART;TZID=America/New_York:20260112T190000
DTEND;TZID=America/New_York:20260112T200000
DTSTAMP:20260423T180838
CREATED:20251223T153354Z
LAST-MODIFIED:20251223T153354Z
UID:10001886-1768244400-1768248000@moderationmonth.org
SUMMARY:Dryuary - Weekly Kickstart Meeting
DESCRIPTION:We're sorry\, you don't seem to have access to this page. Please check to see if you are logged in by going to the Kickstart Login Page.  If you have registered for the Kickstart Moderation Team Program\, you will not have access to the course lessons until the program begins. If you have not registered for the program\, we hope you will join us soon. Register now.
URL:https://moderationmonth.org/event/dryuary-weekly-kickstart-meeting/2026-01-12/
ATTACH;FMTTYPE=image/jpeg:https://moderationmonth.org/wp-content/uploads/2025/12/0vcyths4bho.jpg
END:VEVENT
BEGIN:VEVENT
DTSTART;TZID=America/New_York:20260105T190000
DTEND;TZID=America/New_York:20260105T200000
DTSTAMP:20260423T180838
CREATED:20251223T153354Z
LAST-MODIFIED:20251223T153354Z
UID:10001885-1767639600-1767643200@moderationmonth.org
SUMMARY:Dryuary - Weekly Kickstart Meeting
DESCRIPTION:We're sorry\, you don't seem to have access to this page. Please check to see if you are logged in by going to the Kickstart Login Page.  If you have registered for the Kickstart Moderation Team Program\, you will not have access to the course lessons until the program begins. If you have not registered for the program\, we hope you will join us soon. Register now.
URL:https://moderationmonth.org/event/dryuary-weekly-kickstart-meeting/2026-01-05/
ATTACH;FMTTYPE=image/jpeg:https://moderationmonth.org/wp-content/uploads/2025/12/0vcyths4bho.jpg
END:VEVENT
BEGIN:VEVENT
DTSTART;TZID=America/New_York:20251030T150000
DTEND;TZID=America/New_York:20251030T160000
DTSTAMP:20260423T180838
CREATED:20250923T193649Z
LAST-MODIFIED:20250923T193649Z
UID:10001878-1761836400-1761840000@moderationmonth.org
SUMMARY:Sober(ish) October Kickstart Meeting
DESCRIPTION:We're sorry\, you don't seem to have access to this page. Please check to see if you are logged in by going to the Kickstart Login Page.  If you have registered for the Kickstart Moderation Team Program\, you will not have access to the course lessons until the program begins. If you have not registered for the program\, we hope you will join us soon. Register now.
URL:https://moderationmonth.org/event/soberish-october-kickstart-meeting-2/2025-10-30/
ATTACH;FMTTYPE=image/jpeg:https://moderationmonth.org/wp-content/uploads/2025/06/frgotjfqahm-e1750371910368.jpg
END:VEVENT
BEGIN:VEVENT
DTSTART;TZID=America/New_York:20251027T193000
DTEND;TZID=America/New_York:20251027T203000
DTSTAMP:20260423T180838
CREATED:20250923T193500Z
LAST-MODIFIED:20250923T193717Z
UID:10001872-1761593400-1761597000@moderationmonth.org
SUMMARY:Sober(ish) October Kickstart Meeting
DESCRIPTION:We're sorry\, you don't seem to have access to this page. Please check to see if you are logged in by going to the Kickstart Login Page.  If you have registered for the Kickstart Moderation Team Program\, you will not have access to the course lessons until the program begins. If you have not registered for the program\, we hope you will join us soon. Register now.
URL:https://moderationmonth.org/event/soberish-october-kickstart-meeting/2025-10-27/
ATTACH;FMTTYPE=image/jpeg:https://moderationmonth.org/wp-content/uploads/2025/06/frgotjfqahm-e1750371910368.jpg
END:VEVENT
BEGIN:VEVENT
DTSTART;TZID=America/New_York:20251023T150000
DTEND;TZID=America/New_York:20251023T160000
DTSTAMP:20260423T180838
CREATED:20250926T224343Z
LAST-MODIFIED:20251005T210859Z
UID:10001884-1761231600-1761235200@moderationmonth.org
SUMMARY:Special Presentation with Beej Christie Karpen
DESCRIPTION:We're sorry\, you don't seem to have access to this page. Please check to see if you are logged in by going to the Kickstart Login Page.  If you have registered for the Kickstart Moderation Team Program\, you will not have access to the course lessons until the program begins. If you have not registered for the program\, we hope you will join us soon. Register now.
URL:https://moderationmonth.org/event/special-presentation-with-beej-christie-karpen/
ATTACH;FMTTYPE=image/jpeg:https://moderationmonth.org/wp-content/uploads/2025/09/Screenshot-2025-09-26-at-6.42.47-PM.jpg
END:VEVENT
BEGIN:VEVENT
DTSTART;TZID=America/New_York:20251020T193000
DTEND;TZID=America/New_York:20251020T203000
DTSTAMP:20260423T180838
CREATED:20250923T193500Z
LAST-MODIFIED:20250923T193717Z
UID:10001871-1760988600-1760992200@moderationmonth.org
SUMMARY:Sober(ish) October Kickstart Meeting
DESCRIPTION:We're sorry\, you don't seem to have access to this page. Please check to see if you are logged in by going to the Kickstart Login Page.  If you have registered for the Kickstart Moderation Team Program\, you will not have access to the course lessons until the program begins. If you have not registered for the program\, we hope you will join us soon. Register now.
URL:https://moderationmonth.org/event/soberish-october-kickstart-meeting/2025-10-20/
ATTACH;FMTTYPE=image/jpeg:https://moderationmonth.org/wp-content/uploads/2025/06/frgotjfqahm-e1750371910368.jpg
END:VEVENT
BEGIN:VEVENT
DTSTART;TZID=America/New_York:20251016T150000
DTEND;TZID=America/New_York:20251016T160000
DTSTAMP:20260423T180838
CREATED:20250923T193649Z
LAST-MODIFIED:20250923T193649Z
UID:10001877-1760626800-1760630400@moderationmonth.org
SUMMARY:Sober(ish) October Kickstart Meeting
DESCRIPTION:We're sorry\, you don't seem to have access to this page. Please check to see if you are logged in by going to the Kickstart Login Page.  If you have registered for the Kickstart Moderation Team Program\, you will not have access to the course lessons until the program begins. If you have not registered for the program\, we hope you will join us soon. Register now.
URL:https://moderationmonth.org/event/soberish-october-kickstart-meeting-2/2025-10-16/
ATTACH;FMTTYPE=image/jpeg:https://moderationmonth.org/wp-content/uploads/2025/06/frgotjfqahm-e1750371910368.jpg
END:VEVENT
BEGIN:VEVENT
DTSTART;TZID=America/New_York:20251013T193000
DTEND;TZID=America/New_York:20251013T203000
DTSTAMP:20260423T180838
CREATED:20250923T193500Z
LAST-MODIFIED:20250923T193717Z
UID:10001870-1760383800-1760387400@moderationmonth.org
SUMMARY:Sober(ish) October Kickstart Meeting
DESCRIPTION:We're sorry\, you don't seem to have access to this page. Please check to see if you are logged in by going to the Kickstart Login Page.  If you have registered for the Kickstart Moderation Team Program\, you will not have access to the course lessons until the program begins. If you have not registered for the program\, we hope you will join us soon. Register now.
URL:https://moderationmonth.org/event/soberish-october-kickstart-meeting/2025-10-13/
ATTACH;FMTTYPE=image/jpeg:https://moderationmonth.org/wp-content/uploads/2025/06/frgotjfqahm-e1750371910368.jpg
END:VEVENT
BEGIN:VEVENT
DTSTART;TZID=America/New_York:20251009T150000
DTEND;TZID=America/New_York:20251009T160000
DTSTAMP:20260423T180838
CREATED:20250926T223644Z
LAST-MODIFIED:20251005T211236Z
UID:10001883-1760022000-1760025600@moderationmonth.org
SUMMARY:Special Presentation: Erica Mallery Mindful Drinking Coach
DESCRIPTION:We're sorry\, you don't seem to have access to this page. Please check to see if you are logged in by going to the Kickstart Login Page.  If you have registered for the Kickstart Moderation Team Program\, you will not have access to the course lessons until the program begins. If you have not registered for the program\, we hope you will join us soon. Register now.
URL:https://moderationmonth.org/event/special-presentation-erica-mallery-mindful-drinking-coach/
ATTACH;FMTTYPE=image/webp:https://moderationmonth.org/wp-content/uploads/2025/09/240324_EricaMalleryFinal_064-e1758926110361.webp
END:VEVENT
BEGIN:VEVENT
DTSTART;TZID=America/New_York:20251006T193000
DTEND;TZID=America/New_York:20251006T203000
DTSTAMP:20260423T180838
CREATED:20250923T193500Z
LAST-MODIFIED:20250923T193717Z
UID:10001869-1759779000-1759782600@moderationmonth.org
SUMMARY:Sober(ish) October Kickstart Meeting
DESCRIPTION:We're sorry\, you don't seem to have access to this page. Please check to see if you are logged in by going to the Kickstart Login Page.  If you have registered for the Kickstart Moderation Team Program\, you will not have access to the course lessons until the program begins. If you have not registered for the program\, we hope you will join us soon. Register now.
URL:https://moderationmonth.org/event/soberish-october-kickstart-meeting/2025-10-06/
ATTACH;FMTTYPE=image/jpeg:https://moderationmonth.org/wp-content/uploads/2025/06/frgotjfqahm-e1750371910368.jpg
END:VEVENT
BEGIN:VEVENT
DTSTART;TZID=America/New_York:20250731T150000
DTEND;TZID=America/New_York:20250731T160000
DTSTAMP:20260423T180838
CREATED:20250619T222710Z
LAST-MODIFIED:20250619T222816Z
UID:10001814-1753974000-1753977600@moderationmonth.org
SUMMARY:Dry(er) July Virtual Kickstart Meeting
DESCRIPTION:We're sorry\, you don't seem to have access to this page. Please check to see if you are logged in by going to the Kickstart Login Page.  If you have registered for the Kickstart Moderation Team Program\, you will not have access to the course lessons until the program begins. If you have not registered for the program\, we hope you will join us soon. Register now.
URL:https://moderationmonth.org/event/dryer-july-virtual-kickstart-meeting-3/2025-07-31/
ATTACH;FMTTYPE=image/jpeg:https://moderationmonth.org/wp-content/uploads/2025/06/frgotjfqahm-e1750371910368.jpg
END:VEVENT
BEGIN:VEVENT
DTSTART;TZID=America/New_York:20250728T193000
DTEND;TZID=America/New_York:20250728T203000
DTSTAMP:20260423T180838
CREATED:20250619T221437Z
LAST-MODIFIED:20250619T221631Z
UID:10001810-1753731000-1753734600@moderationmonth.org
SUMMARY:Dry(er) July Virtual Kickstart Meeting
DESCRIPTION:We're sorry\, you don't seem to have access to this page. Please check to see if you are logged in by going to the Kickstart Login Page.  If you have registered for the Kickstart Moderation Team Program\, you will not have access to the course lessons until the program begins. If you have not registered for the program\, we hope you will join us soon. Register now.
URL:https://moderationmonth.org/event/dryer-july-virtual-kickstart-meeting/2025-07-28/
ATTACH;FMTTYPE=image/jpeg:https://moderationmonth.org/wp-content/uploads/2025/06/frgotjfqahm-e1750371910368.jpg
END:VEVENT
BEGIN:VEVENT
DTSTART;TZID=America/New_York:20250724T150000
DTEND;TZID=America/New_York:20250724T160000
DTSTAMP:20260423T180838
CREATED:20250619T232417Z
LAST-MODIFIED:20250623T152908Z
UID:10001868-1753369200-1753372800@moderationmonth.org
SUMMARY:Special Presentation with Anna Charles
DESCRIPTION:We're sorry\, you don't seem to have access to this page. Please check to see if you are logged in by going to the Kickstart Login Page.  If you have registered for the Kickstart Moderation Team Program\, you will not have access to the course lessons until the program begins. If you have not registered for the program\, we hope you will join us soon. Register now.
URL:https://moderationmonth.org/event/special-presentation-with-anna-charles/
ATTACH;FMTTYPE=image/jpeg:https://moderationmonth.org/wp-content/uploads/2023/03/Anna-for-MM-scaled-1-e1750375308778.jpg
END:VEVENT
BEGIN:VEVENT
DTSTART;TZID=America/New_York:20250721T193000
DTEND;TZID=America/New_York:20250721T203000
DTSTAMP:20260423T180838
CREATED:20250619T221437Z
LAST-MODIFIED:20250619T221631Z
UID:10001809-1753126200-1753129800@moderationmonth.org
SUMMARY:Dry(er) July Virtual Kickstart Meeting
DESCRIPTION:We're sorry\, you don't seem to have access to this page. Please check to see if you are logged in by going to the Kickstart Login Page.  If you have registered for the Kickstart Moderation Team Program\, you will not have access to the course lessons until the program begins. If you have not registered for the program\, we hope you will join us soon. Register now.
URL:https://moderationmonth.org/event/dryer-july-virtual-kickstart-meeting/2025-07-21/
ATTACH;FMTTYPE=image/jpeg:https://moderationmonth.org/wp-content/uploads/2025/06/frgotjfqahm-e1750371910368.jpg
END:VEVENT
BEGIN:VEVENT
DTSTART;TZID=America/New_York:20250717T150000
DTEND;TZID=America/New_York:20250717T160000
DTSTAMP:20260423T180838
CREATED:20250619T222710Z
LAST-MODIFIED:20250619T222816Z
UID:10001812-1752764400-1752768000@moderationmonth.org
SUMMARY:Dry(er) July Virtual Kickstart Meeting
DESCRIPTION:We're sorry\, you don't seem to have access to this page. Please check to see if you are logged in by going to the Kickstart Login Page.  If you have registered for the Kickstart Moderation Team Program\, you will not have access to the course lessons until the program begins. If you have not registered for the program\, we hope you will join us soon. Register now.
URL:https://moderationmonth.org/event/dryer-july-virtual-kickstart-meeting-3/2025-07-17/
ATTACH;FMTTYPE=image/jpeg:https://moderationmonth.org/wp-content/uploads/2025/06/frgotjfqahm-e1750371910368.jpg
END:VEVENT
BEGIN:VEVENT
DTSTART;TZID=America/New_York:20250714T193000
DTEND;TZID=America/New_York:20250714T203000
DTSTAMP:20260423T180838
CREATED:20250619T225116Z
LAST-MODIFIED:20250619T232452Z
UID:10001867-1752521400-1752525000@moderationmonth.org
SUMMARY:Group Coaching Session with Molly Watts
DESCRIPTION:We're sorry\, you don't seem to have access to this page. Please check to see if you are logged in by going to the Kickstart Login Page.  If you have registered for the Kickstart Moderation Team Program\, you will not have access to the course lessons until the program begins. If you have not registered for the program\, we hope you will join us soon. Register now.
URL:https://moderationmonth.org/event/kickstart-group-coaching-session-with-molly-watts/
ATTACH;FMTTYPE=image/webp:https://moderationmonth.org/wp-content/uploads/2025/06/MW-1-of-1-scaled.jpg-e1750373363675.webp
END:VEVENT
BEGIN:VEVENT
DTSTART;TZID=America/New_York:20250710T150000
DTEND;TZID=America/New_York:20250710T160000
DTSTAMP:20260423T180838
CREATED:20250619T222710Z
LAST-MODIFIED:20250619T222816Z
UID:10001811-1752159600-1752163200@moderationmonth.org
SUMMARY:Dry(er) July Virtual Kickstart Meeting
DESCRIPTION:We're sorry\, you don't seem to have access to this page. Please check to see if you are logged in by going to the Kickstart Login Page.  If you have registered for the Kickstart Moderation Team Program\, you will not have access to the course lessons until the program begins. If you have not registered for the program\, we hope you will join us soon. Register now.
URL:https://moderationmonth.org/event/dryer-july-virtual-kickstart-meeting-3/2025-07-10/
ATTACH;FMTTYPE=image/jpeg:https://moderationmonth.org/wp-content/uploads/2025/06/frgotjfqahm-e1750371910368.jpg
END:VEVENT
BEGIN:VEVENT
DTSTART;TZID=America/New_York:20250707T193000
DTEND;TZID=America/New_York:20250707T203000
DTSTAMP:20260423T180838
CREATED:20250619T221437Z
LAST-MODIFIED:20250619T221631Z
UID:10001807-1751916600-1751920200@moderationmonth.org
SUMMARY:Dry(er) July Virtual Kickstart Meeting
DESCRIPTION:We're sorry\, you don't seem to have access to this page. Please check to see if you are logged in by going to the Kickstart Login Page.  If you have registered for the Kickstart Moderation Team Program\, you will not have access to the course lessons until the program begins. If you have not registered for the program\, we hope you will join us soon. Register now.
URL:https://moderationmonth.org/event/dryer-july-virtual-kickstart-meeting/2025-07-07/
ATTACH;FMTTYPE=image/jpeg:https://moderationmonth.org/wp-content/uploads/2025/06/frgotjfqahm-e1750371910368.jpg
END:VEVENT
BEGIN:VEVENT
DTSTART;TZID=America/New_York:20241029T120000
DTEND;TZID=America/New_York:20241029T130000
DTSTAMP:20260423T180838
CREATED:20240908T183928Z
LAST-MODIFIED:20240908T183928Z
UID:10001805-1730203200-1730206800@moderationmonth.org
SUMMARY:Kickstart Tuesday Daytime Meeting: 12:00 PM Eastern Time
DESCRIPTION:We're sorry\, you don't seem to have access to this page. Please check to see if you are logged in by going to the Kickstart Login Page.  If you have registered for the Kickstart Moderation Team Program\, you will not have access to the course lessons until the program begins. If you have not registered for the program\, we hope you will join us soon. Register now.
URL:https://moderationmonth.org/event/kickstart-tuesday-daytime-meeting-1200-pm-eastern-time/2024-10-29/
LOCATION:Zoom Meeting
END:VEVENT
BEGIN:VEVENT
DTSTART;TZID=America/New_York:20241028T203000
DTEND;TZID=America/New_York:20241028T213000
DTSTAMP:20260423T180838
CREATED:20240908T183530Z
LAST-MODIFIED:20240908T183530Z
UID:10001800-1730147400-1730151000@moderationmonth.org
SUMMARY:Kickstart Monday Evening Meeting: 8:30 PM Eastern Time
DESCRIPTION:We're sorry\, you don't seem to have access to this page. Please check to see if you are logged in by going to the Kickstart Login Page.  If you have registered for the Kickstart Moderation Team Program\, you will not have access to the course lessons until the program begins. If you have not registered for the program\, we hope you will join us soon. Register now.
URL:https://moderationmonth.org/event/kickstart-monday-evening-meeting-830-pm-eastern-time-2/2024-10-28/
LOCATION:Zoom Meeting
ORGANIZER;CN="ModerationMonth":MAILTO:moderationmonth@moderation.org
END:VEVENT
BEGIN:VEVENT
DTSTART;TZID=America/New_York:20241022T140000
DTEND;TZID=America/New_York:20241022T150000
DTSTAMP:20260423T180838
CREATED:20241018T182245Z
LAST-MODIFIED:20241018T182245Z
UID:10001806-1729605600-1729609200@moderationmonth.org
SUMMARY:Accountability Workshop with Anna Charles
DESCRIPTION:We're sorry\, you don't seem to have access to this page. Please check to see if you are logged in by going to the Kickstart Login Page.  If you have registered for the Kickstart Moderation Team Program\, you will not have access to the course lessons until the program begins. If you have not registered for the program\, we hope you will join us soon. Register now.
URL:https://moderationmonth.org/event/accountability-workshop-with-anna-charles/
ATTACH;FMTTYPE=image/jpeg:https://moderationmonth.org/wp-content/uploads/2024/10/cropped-Champion-walker2-crop-1.jpeg
END:VEVENT
BEGIN:VEVENT
DTSTART;TZID=America/New_York:20241022T120000
DTEND;TZID=America/New_York:20241022T130000
DTSTAMP:20260423T180838
CREATED:20240908T183928Z
LAST-MODIFIED:20240908T183928Z
UID:10001804-1729598400-1729602000@moderationmonth.org
SUMMARY:Kickstart Tuesday Daytime Meeting: 12:00 PM Eastern Time
DESCRIPTION:We're sorry\, you don't seem to have access to this page. Please check to see if you are logged in by going to the Kickstart Login Page.  If you have registered for the Kickstart Moderation Team Program\, you will not have access to the course lessons until the program begins. If you have not registered for the program\, we hope you will join us soon. Register now.
URL:https://moderationmonth.org/event/kickstart-tuesday-daytime-meeting-1200-pm-eastern-time/2024-10-22/
LOCATION:Zoom Meeting
END:VEVENT
BEGIN:VEVENT
DTSTART;TZID=America/New_York:20241021T203000
DTEND;TZID=America/New_York:20241021T213000
DTSTAMP:20260423T180838
CREATED:20240908T183530Z
LAST-MODIFIED:20240908T183530Z
UID:10001799-1729542600-1729546200@moderationmonth.org
SUMMARY:Kickstart Monday Evening Meeting: 8:30 PM Eastern Time
DESCRIPTION:We're sorry\, you don't seem to have access to this page. Please check to see if you are logged in by going to the Kickstart Login Page.  If you have registered for the Kickstart Moderation Team Program\, you will not have access to the course lessons until the program begins. If you have not registered for the program\, we hope you will join us soon. Register now.
URL:https://moderationmonth.org/event/kickstart-monday-evening-meeting-830-pm-eastern-time-2/2024-10-21/
LOCATION:Zoom Meeting
ORGANIZER;CN="ModerationMonth":MAILTO:moderationmonth@moderation.org
END:VEVENT
BEGIN:VEVENT
DTSTART;TZID=America/New_York:20241015T120000
DTEND;TZID=America/New_York:20241015T130000
DTSTAMP:20260423T180838
CREATED:20240908T183928Z
LAST-MODIFIED:20240908T183928Z
UID:10001803-1728993600-1728997200@moderationmonth.org
SUMMARY:Kickstart Tuesday Daytime Meeting: 12:00 PM Eastern Time
DESCRIPTION:We're sorry\, you don't seem to have access to this page. Please check to see if you are logged in by going to the Kickstart Login Page.  If you have registered for the Kickstart Moderation Team Program\, you will not have access to the course lessons until the program begins. If you have not registered for the program\, we hope you will join us soon. Register now.
URL:https://moderationmonth.org/event/kickstart-tuesday-daytime-meeting-1200-pm-eastern-time/2024-10-15/
LOCATION:Zoom Meeting
END:VEVENT
BEGIN:VEVENT
DTSTART;TZID=America/New_York:20241014T203000
DTEND;TZID=America/New_York:20241014T213000
DTSTAMP:20260423T180838
CREATED:20240908T183530Z
LAST-MODIFIED:20240908T183530Z
UID:10001798-1728937800-1728941400@moderationmonth.org
SUMMARY:Kickstart Monday Evening Meeting: 8:30 PM Eastern Time
DESCRIPTION:We're sorry\, you don't seem to have access to this page. Please check to see if you are logged in by going to the Kickstart Login Page.  If you have registered for the Kickstart Moderation Team Program\, you will not have access to the course lessons until the program begins. If you have not registered for the program\, we hope you will join us soon. Register now.
URL:https://moderationmonth.org/event/kickstart-monday-evening-meeting-830-pm-eastern-time-2/2024-10-14/
LOCATION:Zoom Meeting
ORGANIZER;CN="ModerationMonth":MAILTO:moderationmonth@moderation.org
END:VEVENT
BEGIN:VEVENT
DTSTART;TZID=America/New_York:20241008T120000
DTEND;TZID=America/New_York:20241008T130000
DTSTAMP:20260423T180838
CREATED:20240908T183928Z
LAST-MODIFIED:20240908T183928Z
UID:10001802-1728388800-1728392400@moderationmonth.org
SUMMARY:Kickstart Tuesday Daytime Meeting: 12:00 PM Eastern Time
DESCRIPTION:We're sorry\, you don't seem to have access to this page. Please check to see if you are logged in by going to the Kickstart Login Page.  If you have registered for the Kickstart Moderation Team Program\, you will not have access to the course lessons until the program begins. If you have not registered for the program\, we hope you will join us soon. Register now.
URL:https://moderationmonth.org/event/kickstart-tuesday-daytime-meeting-1200-pm-eastern-time/2024-10-08/
LOCATION:Zoom Meeting
END:VEVENT
BEGIN:VEVENT
DTSTART;TZID=America/New_York:20241007T203000
DTEND;TZID=America/New_York:20241007T213000
DTSTAMP:20260423T180838
CREATED:20240908T183530Z
LAST-MODIFIED:20240908T183530Z
UID:10001797-1728333000-1728336600@moderationmonth.org
SUMMARY:Kickstart Monday Evening Meeting: 8:30 PM Eastern Time
DESCRIPTION:We're sorry\, you don't seem to have access to this page. Please check to see if you are logged in by going to the Kickstart Login Page.  If you have registered for the Kickstart Moderation Team Program\, you will not have access to the course lessons until the program begins. If you have not registered for the program\, we hope you will join us soon. Register now.
URL:https://moderationmonth.org/event/kickstart-monday-evening-meeting-830-pm-eastern-time-2/2024-10-07/
LOCATION:Zoom Meeting
ORGANIZER;CN="ModerationMonth":MAILTO:moderationmonth@moderation.org
END:VEVENT
BEGIN:VEVENT
DTSTART;TZID=America/New_York:20241001T120000
DTEND;TZID=America/New_York:20241001T130000
DTSTAMP:20260423T180838
CREATED:20240908T183928Z
LAST-MODIFIED:20240908T183928Z
UID:10001801-1727784000-1727787600@moderationmonth.org
SUMMARY:Kickstart Tuesday Daytime Meeting: 12:00 PM Eastern Time
DESCRIPTION:We're sorry\, you don't seem to have access to this page. Please check to see if you are logged in by going to the Kickstart Login Page.  If you have registered for the Kickstart Moderation Team Program\, you will not have access to the course lessons until the program begins. If you have not registered for the program\, we hope you will join us soon. Register now.
URL:https://moderationmonth.org/event/kickstart-tuesday-daytime-meeting-1200-pm-eastern-time/2024-10-01/
LOCATION:Zoom Meeting
END:VEVENT
END:VCALENDAR